BEGIN:VCALENDAR
VERSION:2.0
PRODID:-//Connecticut Passive House - ECPv6.15.20//NONSGML v1.0//EN
CALSCALE:GREGORIAN
METHOD:PUBLISH
X-ORIGINAL-URL:https://ctpassivehouse.org
X-WR-CALDESC:Events for Connecticut Passive House
REFRESH-INTERVAL;VALUE=DURATION:PT1H
X-Robots-Tag:noindex
X-PUBLISHED-TTL:PT1H
BEGIN:VTIMEZONE
TZID:America/New_York
BEGIN:DAYLIGHT
TZOFFSETFROM:-0500
TZOFFSETTO:-0400
TZNAME:EDT
DTSTART:20210314T070000
END:DAYLIGHT
BEGIN:STANDARD
TZOFFSETFROM:-0400
TZOFFSETTO:-0500
TZNAME:EST
DTSTART:20211107T060000
END:STANDARD
BEGIN:DAYLIGHT
TZOFFSETFROM:-0500
TZOFFSETTO:-0400
TZNAME:EDT
DTSTART:20220313T070000
END:DAYLIGHT
BEGIN:STANDARD
TZOFFSETFROM:-0400
TZOFFSETTO:-0500
TZNAME:EST
DTSTART:20221106T060000
END:STANDARD
BEGIN:DAYLIGHT
TZOFFSETFROM:-0500
TZOFFSETTO:-0400
TZNAME:EDT
DTSTART:20230312T070000
END:DAYLIGHT
BEGIN:STANDARD
TZOFFSETFROM:-0400
TZOFFSETTO:-0500
TZNAME:EST
DTSTART:20231105T060000
END:STANDARD
END:VTIMEZONE
BEGIN:VTIMEZONE
TZID:UTC
BEGIN:STANDARD
TZOFFSETFROM:+0000
TZOFFSETTO:+0000
TZNAME:UTC
DTSTART:20210101T000000
END:STANDARD
END:VTIMEZONE
BEGIN:VEVENT
DTSTART;TZID=America/New_York:20220823T130000
DTEND;TZID=America/New_York:20220823T140000
DTSTAMP:20260421T184859
CREATED:20220707T152438Z
LAST-MODIFIED:20220822T205439Z
UID:17853-1661259600-1661263200@ctpassivehouse.org
SUMMARY:Passive House Fundamentals: Insulation & Thermal Bridging | BE Exchange
DESCRIPTION:
URL:https://ctpassivehouse.org/event/passive-house-fundamentals-insulation-thermal-bridging-be-exchange/
CATEGORIES:Event
END:VEVENT
BEGIN:VEVENT
DTSTART;TZID=America/New_York:20220823T140000
DTEND;TZID=America/New_York:20220823T160000
DTSTAMP:20260421T184859
CREATED:20220727T182526Z
LAST-MODIFIED:20220826T182827Z
UID:18239-1661263200-1661270400@ctpassivehouse.org
SUMMARY:Air Sealing and Insulation for Homes Workshop: Part 1 | CTPH & Energize CT
DESCRIPTION:Proper air sealing and insulation techniques are essential to increase building energy efficiency\, durability\, occupant comfort and indoor air quality. This workshop focuses on ways to enhance the building’s thermal and pressure boundaries through appropriate insulation and air sealing techniques. Attendees will learn about the importance of selection\, and application of air sealing and insulation materials. \nSpeaker: Scott Pusey\, Principal Sustainability Consultant of Steven Winter Associates\, Inc.\n4 AIA HSW (2 for each part)
URL:https://ctpassivehouse.org/event/air-sealing-and-insulation-for-homes-workshop-part-1-ctph-energize-ct/
CATEGORIES:Connecticut Passive House
END:VEVENT
BEGIN:VEVENT
DTSTART;TZID=America/New_York:20220823T170000
DTEND;TZID=America/New_York:20220823T180000
DTSTAMP:20260421T184859
CREATED:20220725T180939Z
LAST-MODIFIED:20220823T205444Z
UID:18214-1661274000-1661277600@ctpassivehouse.org
SUMMARY:Phemales of Phius - August 2022 | Phius
DESCRIPTION:
URL:https://ctpassivehouse.org/event/phemales-of-phius-august-2022-phius/
CATEGORIES:Event
END:VEVENT
BEGIN:VEVENT
DTSTART;TZID=UTC:20220823T183000
DTEND;TZID=UTC:20220823T183000
DTSTAMP:20260421T184859
CREATED:20220822T210901Z
LAST-MODIFIED:20220822T210956Z
UID:18541-1661279400-1661279400@ctpassivehouse.org
SUMMARY:HeatSmart - Intro to Energize CT’s No-Cost Heat Pump Consulting Service
DESCRIPTION:PACE and your town HeatSmart team are inviting you to a zoom webinar on August 23rd at 6:30 PM. The topic of this session is to share a new service offered by Energize Connecticut Sponsors Eversource and United Illuminating (UI)\, a subsidiary of Avangrid Inc.\, that helps people understand their heat pump options. \nWe invite you to join us on August 23rd to learn about the no-cost heat pump consultation service offered to Eversource and UI residential customers as part of Connecticut’s transition to a clean energy economy. \nThe webinar will provide: \n– An introduction to the Energize CT initiative and incentive offers\n– Information on air source and ground source heat pump equipment options\n– Operational guidance that will help maximize system performance \nThis event will close with Q&A and an open discussion.
URL:https://ctpassivehouse.org/event/heatsmart-intro-to-energize-cts-no-cost-heat-pump-consulting-service/
CATEGORIES:Energize CT Passive House Initiative,EnergizeCT Passive House Initiative
END:VEVENT
END:VCALENDAR