BEGIN:VCALENDAR
VERSION:2.0
PRODID:-//Connecticut Passive House - ECPv6.15.20//NONSGML v1.0//EN
CALSCALE:GREGORIAN
METHOD:PUBLISH
X-ORIGINAL-URL:https://ctpassivehouse.org
X-WR-CALDESC:Events for Connecticut Passive House
REFRESH-INTERVAL;VALUE=DURATION:PT1H
X-Robots-Tag:noindex
X-PUBLISHED-TTL:PT1H
BEGIN:VTIMEZONE
TZID:America/New_York
BEGIN:DAYLIGHT
TZOFFSETFROM:-0500
TZOFFSETTO:-0400
TZNAME:EDT
DTSTART:20210314T070000
END:DAYLIGHT
BEGIN:STANDARD
TZOFFSETFROM:-0400
TZOFFSETTO:-0500
TZNAME:EST
DTSTART:20211107T060000
END:STANDARD
BEGIN:DAYLIGHT
TZOFFSETFROM:-0500
TZOFFSETTO:-0400
TZNAME:EDT
DTSTART:20220313T070000
END:DAYLIGHT
BEGIN:STANDARD
TZOFFSETFROM:-0400
TZOFFSETTO:-0500
TZNAME:EST
DTSTART:20221106T060000
END:STANDARD
BEGIN:DAYLIGHT
TZOFFSETFROM:-0500
TZOFFSETTO:-0400
TZNAME:EDT
DTSTART:20230312T070000
END:DAYLIGHT
BEGIN:STANDARD
TZOFFSETFROM:-0400
TZOFFSETTO:-0500
TZNAME:EST
DTSTART:20231105T060000
END:STANDARD
END:VTIMEZONE
BEGIN:VEVENT
DTSTART;TZID=America/New_York:20221213T113000
DTEND;TZID=America/New_York:20221213T123000
DTSTAMP:20260422T075904
CREATED:20221212T175724Z
LAST-MODIFIED:20221212T175724Z
UID:23323-1670931000-1670934600@ctpassivehouse.org
SUMMARY:Introduction to Insulated Roof Decks | AIACT
DESCRIPTION:
URL:https://ctpassivehouse.org/event/introduction-to-insulated-roof-decks-aiact/
END:VEVENT
BEGIN:VEVENT
DTSTART;TZID=America/New_York:20221213T120000
DTEND;TZID=America/New_York:20221213T130000
DTSTAMP:20260422T075904
CREATED:20221212T175724Z
LAST-MODIFIED:20221212T175724Z
UID:23324-1670932800-1670936400@ctpassivehouse.org
SUMMARY:Ask the Passive House Certifiers
DESCRIPTION:
URL:https://ctpassivehouse.org/event/ask-the-passive-house-certifiers/
END:VEVENT
BEGIN:VEVENT
DTSTART;TZID=America/New_York:20221213T130000
DTEND;TZID=America/New_York:20221213T140000
DTSTAMP:20260422T075904
CREATED:20221212T175724Z
LAST-MODIFIED:20221212T175724Z
UID:23325-1670936400-1670940000@ctpassivehouse.org
SUMMARY:Reasons for Switching to All Electric | AIACT
DESCRIPTION:
URL:https://ctpassivehouse.org/event/reasons-for-switching-to-all-electric-aiact/
END:VEVENT
BEGIN:VEVENT
DTSTART;TZID=America/New_York:20221213T143000
DTEND;TZID=America/New_York:20221213T153000
DTSTAMP:20260422T075904
CREATED:20221212T175725Z
LAST-MODIFIED:20221212T175725Z
UID:23326-1670941800-1670945400@ctpassivehouse.org
SUMMARY:Sustainability in Lighting | AIACT
DESCRIPTION:
URL:https://ctpassivehouse.org/event/sustainability-in-lighting-aiact/
END:VEVENT
BEGIN:VEVENT
DTSTART;TZID=America/New_York:20221213T180000
DTEND;TZID=America/New_York:20221213T193000
DTSTAMP:20260422T075904
CREATED:20220418T184838Z
LAST-MODIFIED:20220719T201004Z
UID:16034-1670954400-1670959800@ctpassivehouse.org
SUMMARY:PASSIVEhouse Massachusetts monthly meeting
DESCRIPTION:
URL:https://ctpassivehouse.org/event/passivehouse-massachusetts-monthly-meeting-23/
LOCATION:virtual
CATEGORIES:Event
END:VEVENT
BEGIN:VEVENT
DTSTART;TZID=America/New_York:20221213T180000
DTEND;TZID=America/New_York:20221213T193000
DTSTAMP:20260422T075904
CREATED:20221213T175737Z
LAST-MODIFIED:20221213T175737Z
UID:23367-1670954400-1670959800@ctpassivehouse.org
SUMMARY:PASSIVEhouse Massachusetts monthly meeting
DESCRIPTION:
URL:https://ctpassivehouse.org/event/passivehouse-massachusetts-monthly-meeting-2/
LOCATION:virtual
END:VEVENT
END:VCALENDAR