BEGIN:VCALENDAR
VERSION:2.0
PRODID:-//Connecticut Passive House - ECPv6.15.20//NONSGML v1.0//EN
CALSCALE:GREGORIAN
METHOD:PUBLISH
X-ORIGINAL-URL:https://ctpassivehouse.org
X-WR-CALDESC:Events for Connecticut Passive House
REFRESH-INTERVAL;VALUE=DURATION:PT1H
X-Robots-Tag:noindex
X-PUBLISHED-TTL:PT1H
BEGIN:VTIMEZONE
TZID:America/New_York
BEGIN:DAYLIGHT
TZOFFSETFROM:-0500
TZOFFSETTO:-0400
TZNAME:EDT
DTSTART:20230312T070000
END:DAYLIGHT
BEGIN:STANDARD
TZOFFSETFROM:-0400
TZOFFSETTO:-0500
TZNAME:EST
DTSTART:20231105T060000
END:STANDARD
BEGIN:DAYLIGHT
TZOFFSETFROM:-0500
TZOFFSETTO:-0400
TZNAME:EDT
DTSTART:20240310T070000
END:DAYLIGHT
BEGIN:STANDARD
TZOFFSETFROM:-0400
TZOFFSETTO:-0500
TZNAME:EST
DTSTART:20241103T060000
END:STANDARD
BEGIN:DAYLIGHT
TZOFFSETFROM:-0500
TZOFFSETTO:-0400
TZNAME:EDT
DTSTART:20250309T070000
END:DAYLIGHT
BEGIN:STANDARD
TZOFFSETFROM:-0400
TZOFFSETTO:-0500
TZNAME:EST
DTSTART:20251102T060000
END:STANDARD
END:VTIMEZONE
BEGIN:VEVENT
DTSTART;TZID=America/New_York:20240909T170000
DTEND;TZID=America/New_York:20240909T170000
DTSTAMP:20260424T060622
CREATED:20240904T145926Z
LAST-MODIFIED:20240904T150216Z
UID:48260-1725901200-1725901200@ctpassivehouse.org
SUMMARY:CTPH Community Roundtable
DESCRIPTION:Connecticut Passive House invites you to our next monthly Community Roundtable next Monday at 5:00. We’ll continue the discussion about our priorities\, future programming\, and how to keep CTPH going strong. \nThis series continues on second Mondays every month.  Please join for any session you can. \nREGISTER
URL:https://ctpassivehouse.org/event/ctph-community-roundtable-4/
CATEGORIES:Connecticut Passive House
ATTACH;FMTTYPE=image/jpeg:https://ctpassivehouse.org/wp-content/uploads/2021/03/CTPH_Logo-508-x508.jpg
END:VEVENT
BEGIN:VEVENT
DTSTART;TZID=America/New_York:20240909T170000
DTEND;TZID=America/New_York:20240909T180000
DTSTAMP:20260424T060622
CREATED:20240908T212726Z
LAST-MODIFIED:20240908T212726Z
UID:48444-1725901200-1725904800@ctpassivehouse.org
SUMMARY:CTPH Community Roundtable
DESCRIPTION:
URL:https://ctpassivehouse.org/event/ctph-community-roundtable-5/
END:VEVENT
END:VCALENDAR