BEGIN:VCALENDAR
VERSION:2.0
PRODID:-//Connecticut Passive House - ECPv6.15.20//NONSGML v1.0//EN
CALSCALE:GREGORIAN
METHOD:PUBLISH
X-ORIGINAL-URL:https://ctpassivehouse.org
X-WR-CALDESC:Events for Connecticut Passive House
REFRESH-INTERVAL;VALUE=DURATION:PT1H
X-Robots-Tag:noindex
X-PUBLISHED-TTL:PT1H
BEGIN:VTIMEZONE
TZID:America/New_York
BEGIN:DAYLIGHT
TZOFFSETFROM:-0500
TZOFFSETTO:-0400
TZNAME:EDT
DTSTART:20230312T070000
END:DAYLIGHT
BEGIN:STANDARD
TZOFFSETFROM:-0400
TZOFFSETTO:-0500
TZNAME:EST
DTSTART:20231105T060000
END:STANDARD
BEGIN:DAYLIGHT
TZOFFSETFROM:-0500
TZOFFSETTO:-0400
TZNAME:EDT
DTSTART:20240310T070000
END:DAYLIGHT
BEGIN:STANDARD
TZOFFSETFROM:-0400
TZOFFSETTO:-0500
TZNAME:EST
DTSTART:20241103T060000
END:STANDARD
BEGIN:DAYLIGHT
TZOFFSETFROM:-0500
TZOFFSETTO:-0400
TZNAME:EDT
DTSTART:20250309T070000
END:DAYLIGHT
BEGIN:STANDARD
TZOFFSETFROM:-0400
TZOFFSETTO:-0500
TZNAME:EST
DTSTART:20251102T060000
END:STANDARD
END:VTIMEZONE
BEGIN:VEVENT
DTSTART;VALUE=DATE:20240930
DTEND;VALUE=DATE:20241001
DTSTAMP:20260423T044928
CREATED:20240930T230023Z
LAST-MODIFIED:20240930T230023Z
UID:49361-1727654400-1727740799@ctpassivehouse.org
SUMMARY:Phius Certified Consultant Training  BEGINS
DESCRIPTION:
URL:https://ctpassivehouse.org/event/phius-certified-consultant-training-begins/
END:VEVENT
BEGIN:VEVENT
DTSTART;TZID=America/New_York:20240930T120000
DTEND;TZID=America/New_York:20240930T130000
DTSTAMP:20260423T044928
CREATED:20240929T224514Z
LAST-MODIFIED:20240929T224514Z
UID:49311-1727697600-1727701200@ctpassivehouse.org
SUMMARY:Sustainable Building Practices: Prefab Exterior Walls | NYPH
DESCRIPTION:
URL:https://ctpassivehouse.org/event/sustainable-building-practices-prefab-exterior-walls-nyph/
END:VEVENT
END:VCALENDAR