BEGIN:VCALENDAR
VERSION:2.0
PRODID:-//Connecticut Passive House - ECPv6.15.20//NONSGML v1.0//EN
CALSCALE:GREGORIAN
METHOD:PUBLISH
X-ORIGINAL-URL:https://ctpassivehouse.org
X-WR-CALDESC:Events for Connecticut Passive House
REFRESH-INTERVAL;VALUE=DURATION:PT1H
X-Robots-Tag:noindex
X-PUBLISHED-TTL:PT1H
BEGIN:VTIMEZONE
TZID:America/New_York
BEGIN:DAYLIGHT
TZOFFSETFROM:-0500
TZOFFSETTO:-0400
TZNAME:EDT
DTSTART:20230312T070000
END:DAYLIGHT
BEGIN:STANDARD
TZOFFSETFROM:-0400
TZOFFSETTO:-0500
TZNAME:EST
DTSTART:20231105T060000
END:STANDARD
BEGIN:DAYLIGHT
TZOFFSETFROM:-0500
TZOFFSETTO:-0400
TZNAME:EDT
DTSTART:20240310T070000
END:DAYLIGHT
BEGIN:STANDARD
TZOFFSETFROM:-0400
TZOFFSETTO:-0500
TZNAME:EST
DTSTART:20241103T060000
END:STANDARD
BEGIN:DAYLIGHT
TZOFFSETFROM:-0500
TZOFFSETTO:-0400
TZNAME:EDT
DTSTART:20250309T070000
END:DAYLIGHT
BEGIN:STANDARD
TZOFFSETFROM:-0400
TZOFFSETTO:-0500
TZNAME:EST
DTSTART:20251102T060000
END:STANDARD
END:VTIMEZONE
BEGIN:VEVENT
DTSTART;VALUE=DATE:20241017
DTEND;VALUE=DATE:20241018
DTSTAMP:20260425T065918
CREATED:20241016T001230Z
LAST-MODIFIED:20241016T001230Z
UID:49943-1729123200-1729209599@ctpassivehouse.org
SUMMARY:CACX'24 | Connecticut Architecture Conference + Expo | AIA Connecticut
DESCRIPTION:
URL:https://ctpassivehouse.org/event/cacx24-connecticut-architecture-conference-expo-aia-connecticut/
LOCATION:Bristol Event Center\, Bristol
END:VEVENT
BEGIN:VEVENT
DTSTART;VALUE=DATE:20241017
DTEND;VALUE=DATE:20241018
DTSTAMP:20260425T065918
CREATED:20241017T001713Z
LAST-MODIFIED:20241017T001713Z
UID:49985-1729123200-1729209599@ctpassivehouse.org
SUMMARY:WUFI Passive Advanced - Multifamily BEGINS | Phius
DESCRIPTION:
URL:https://ctpassivehouse.org/event/wufi-passive-advanced-multifamily-begins-phius-6/
END:VEVENT
BEGIN:VEVENT
DTSTART;TZID=America/New_York:20241017T140000
DTEND;TZID=America/New_York:20241017T170000
DTSTAMP:20260425T065918
CREATED:20241017T001713Z
LAST-MODIFIED:20241017T001713Z
UID:49984-1729173600-1729184400@ctpassivehouse.org
SUMMARY:Passive House Windows | PHN
DESCRIPTION:
URL:https://ctpassivehouse.org/event/passive-house-windows-phn/
END:VEVENT
END:VCALENDAR