BEGIN:VCALENDAR
VERSION:2.0
PRODID:-//Connecticut Passive House - ECPv6.15.20//NONSGML v1.0//EN
CALSCALE:GREGORIAN
METHOD:PUBLISH
X-WR-CALNAME:Connecticut Passive House
X-ORIGINAL-URL:https://ctpassivehouse.org
X-WR-CALDESC:Events for Connecticut Passive House
REFRESH-INTERVAL;VALUE=DURATION:PT1H
X-Robots-Tag:noindex
X-PUBLISHED-TTL:PT1H
BEGIN:VTIMEZONE
TZID:America/New_York
BEGIN:DAYLIGHT
TZOFFSETFROM:-0500
TZOFFSETTO:-0400
TZNAME:EDT
DTSTART:20230312T070000
END:DAYLIGHT
BEGIN:STANDARD
TZOFFSETFROM:-0400
TZOFFSETTO:-0500
TZNAME:EST
DTSTART:20231105T060000
END:STANDARD
BEGIN:DAYLIGHT
TZOFFSETFROM:-0500
TZOFFSETTO:-0400
TZNAME:EDT
DTSTART:20240310T070000
END:DAYLIGHT
BEGIN:STANDARD
TZOFFSETFROM:-0400
TZOFFSETTO:-0500
TZNAME:EST
DTSTART:20241103T060000
END:STANDARD
BEGIN:DAYLIGHT
TZOFFSETFROM:-0500
TZOFFSETTO:-0400
TZNAME:EDT
DTSTART:20250309T070000
END:DAYLIGHT
BEGIN:STANDARD
TZOFFSETFROM:-0400
TZOFFSETTO:-0500
TZNAME:EST
DTSTART:20251102T060000
END:STANDARD
END:VTIMEZONE
BEGIN:VEVENT
DTSTART;VALUE=DATE:20240903
DTEND;VALUE=DATE:20240904
DTSTAMP:20260419T125327
CREATED:20240903T210050Z
LAST-MODIFIED:20240903T210050Z
UID:48214-1725321600-1725407999@ctpassivehouse.org
SUMMARY:PHI Certified Passive House Designer/Consultant BEGINS | Peel Passive House
DESCRIPTION:
URL:https://ctpassivehouse.org/event/phi-certified-passive-house-designer-consultant-begins-peel-passive-house/
END:VEVENT
BEGIN:VEVENT
DTSTART;TZID=America/New_York:20240904T120000
DTEND;TZID=America/New_York:20240904T130000
DTSTAMP:20260419T125327
CREATED:20240903T210051Z
LAST-MODIFIED:20240903T210051Z
UID:48215-1725451200-1725454800@ctpassivehouse.org
SUMMARY:How to Electrify Without Panel Upsizing | GreenHome Institute
DESCRIPTION:
URL:https://ctpassivehouse.org/event/how-to-electrify-without-panel-upsizing-greenhome-institute/
END:VEVENT
BEGIN:VEVENT
DTSTART;VALUE=DATE:20240905
DTEND;VALUE=DATE:20240906
DTSTAMP:20260419T125327
CREATED:20240905T211230Z
LAST-MODIFIED:20240905T211230Z
UID:48328-1725494400-1725580799@ctpassivehouse.org
SUMMARY:WUFI Passive - Single Family BEGINS | Phius
DESCRIPTION:
URL:https://ctpassivehouse.org/event/wufi-passive-single-family-begins-phius-5/
END:VEVENT
BEGIN:VEVENT
DTSTART;TZID=America/New_York:20240905T140000
DTEND;TZID=America/New_York:20240905T150000
DTSTAMP:20260419T125327
CREATED:20240904T211451Z
LAST-MODIFIED:20240904T211451Z
UID:48286-1725544800-1725548400@ctpassivehouse.org
SUMMARY:Scaling Smart Building Automations for Traceable Carbon Reduction Outcomes | Greenbuild
DESCRIPTION:
URL:https://ctpassivehouse.org/event/scaling-smart-building-automations-for-traceable-carbon-reduction-outcomes-greenbuild/
END:VEVENT
BEGIN:VEVENT
DTSTART;TZID=America/New_York:20240905T170000
DTEND;TZID=America/New_York:20240905T180000
DTSTAMP:20260419T125327
CREATED:20240905T211230Z
LAST-MODIFIED:20240905T211230Z
UID:48327-1725555600-1725559200@ctpassivehouse.org
SUMMARY:Free Emu Info Session | Emu
DESCRIPTION:
URL:https://ctpassivehouse.org/event/free-emu-info-session-emu-2/
END:VEVENT
BEGIN:VEVENT
DTSTART;TZID=America/New_York:20240905T180000
DTEND;TZID=America/New_York:20240905T193000
DTSTAMP:20260419T125327
CREATED:20240905T211229Z
LAST-MODIFIED:20240905T211229Z
UID:48326-1725559200-1725564600@ctpassivehouse.org
SUMMARY:The BS* + Beer Show (*building science)
DESCRIPTION:Greenbuilding Advisor and Fine Homebuilding
URL:https://ctpassivehouse.org/event/the-bs-beer-show-building-science-13/
END:VEVENT
BEGIN:VEVENT
DTSTART;TZID=America/New_York:20240909T170000
DTEND;TZID=America/New_York:20240909T170000
DTSTAMP:20260419T125327
CREATED:20240904T145926Z
LAST-MODIFIED:20240904T150216Z
UID:48260-1725901200-1725901200@ctpassivehouse.org
SUMMARY:CTPH Community Roundtable
DESCRIPTION:Connecticut Passive House invites you to our next monthly Community Roundtable next Monday at 5:00. We’ll continue the discussion about our priorities\, future programming\, and how to keep CTPH going strong. \nThis series continues on second Mondays every month.  Please join for any session you can. \nREGISTER
URL:https://ctpassivehouse.org/event/ctph-community-roundtable-4/
CATEGORIES:Connecticut Passive House
ATTACH;FMTTYPE=image/jpeg:https://ctpassivehouse.org/wp-content/uploads/2021/03/CTPH_Logo-508-x508.jpg
END:VEVENT
BEGIN:VEVENT
DTSTART;TZID=America/New_York:20240909T170000
DTEND;TZID=America/New_York:20240909T180000
DTSTAMP:20260419T125327
CREATED:20240908T212726Z
LAST-MODIFIED:20240908T212726Z
UID:48444-1725901200-1725904800@ctpassivehouse.org
SUMMARY:CTPH Community Roundtable
DESCRIPTION:
URL:https://ctpassivehouse.org/event/ctph-community-roundtable-5/
END:VEVENT
BEGIN:VEVENT
DTSTART;TZID=America/New_York:20240910T180000
DTEND;TZID=America/New_York:20240910T190000
DTSTAMP:20260419T125327
CREATED:20240908T212727Z
LAST-MODIFIED:20240908T212727Z
UID:48445-1725991200-1725994800@ctpassivehouse.org
SUMMARY:The Contractors Perspective on the Passive House Process | PHMass
DESCRIPTION:https://phmass.org/event/phmass-monthly-the-contractors-perspective-on-the-passive-house-process/
URL:https://ctpassivehouse.org/event/the-contractors-perspective-on-the-passive-house-process-phmass/
END:VEVENT
BEGIN:VEVENT
DTSTART;TZID=America/New_York:20240910T180000
DTEND;TZID=America/New_York:20240910T193000
DTSTAMP:20260419T125327
CREATED:20240910T213210Z
LAST-MODIFIED:20240910T213210Z
UID:48508-1725991200-1725996600@ctpassivehouse.org
SUMMARY:PASSIVEhouse Massachusetts monthly meeting
DESCRIPTION:
URL:https://ctpassivehouse.org/event/passivehouse-massachusetts-monthly-meeting-18/
LOCATION:virtual
END:VEVENT
BEGIN:VEVENT
DTSTART;VALUE=DATE:20240911
DTEND;VALUE=DATE:20240912
DTSTAMP:20260419T125327
CREATED:20240910T213210Z
LAST-MODIFIED:20240910T213210Z
UID:48511-1726012800-1726099199@ctpassivehouse.org
SUMMARY:Phius Certified Builder Training BEGINS | Phius
DESCRIPTION:
URL:https://ctpassivehouse.org/event/phius-certified-builder-training-begins-phius-11/
LOCATION:Freeport\, ME
END:VEVENT
BEGIN:VEVENT
DTSTART;TZID=America/New_York:20240911T110000
DTEND;TZID=America/New_York:20240911T140000
DTSTAMP:20260419T125327
CREATED:20240910T213210Z
LAST-MODIFIED:20240910T213210Z
UID:48509-1726052400-1726063200@ctpassivehouse.org
SUMMARY:Humidity Control II: Tips for HVAC Design and Practical Solutions to Existing Problems | ASHRAE
DESCRIPTION:
URL:https://ctpassivehouse.org/event/humidity-control-ii-tips-for-hvac-design-and-practical-solutions-to-existing-problems-ashrae/
END:VEVENT
BEGIN:VEVENT
DTSTART;TZID=America/New_York:20240911T120000
DTEND;TZID=America/New_York:20240911T130000
DTSTAMP:20260419T125327
CREATED:20240910T213210Z
LAST-MODIFIED:20240910T213210Z
UID:48510-1726056000-1726059600@ctpassivehouse.org
SUMMARY:Intro to Heat Pump Sizing With The New Manual H | GreenHome Institute
DESCRIPTION:
URL:https://ctpassivehouse.org/event/intro-to-heat-pump-sizing-with-the-new-manual-h-greenhome-institute/
END:VEVENT
BEGIN:VEVENT
DTSTART;TZID=America/New_York:20240911T120000
DTEND;TZID=America/New_York:20240911T130000
DTSTAMP:20260419T125327
CREATED:20240910T213211Z
LAST-MODIFIED:20240910T213211Z
UID:48512-1726056000-1726059600@ctpassivehouse.org
SUMMARY:Passive House Accelerator LIVE!
DESCRIPTION:
URL:https://ctpassivehouse.org/event/passive-house-accelerator-live-40/
END:VEVENT
BEGIN:VEVENT
DTSTART;VALUE=DATE:20240915
DTEND;VALUE=DATE:20240917
DTSTAMP:20260419T125327
CREATED:20240916T215724Z
LAST-MODIFIED:20240916T215724Z
UID:48764-1726358400-1726531199@ctpassivehouse.org
SUMMARY:Northeast Electric Vehicle Symposium (NEEVS) 2024
DESCRIPTION:September 15 (Sunday\, Noon-4 pm) & September 16 (Monday\, 9 am-2 pm\,)\nGet charged up at NEEVS\, the ultimate gathering for EV enthusiasts\, policy makers\, and those seeking trusted guidance on driving electric. Sunday is dedicated to educating and informing consumers as they meet and talk with a variety of EV owners showcasing their cars and participate in a ride and drive event to experience EVs on a 1.5 mile route.The NEEVS symposium takes place on Monday and is a fantastic opportunity to immerse yourself in the world of electric vehicles and network with industry experts. Discover the latest incentives\, policies and advances in ZEVs and pathways to decarbonizing the built environment
URL:https://ctpassivehouse.org/event/northeast-electric-vehicle-symposium-neevs-2024/
LOCATION:Hotel Marcel\, New Haven
END:VEVENT
BEGIN:VEVENT
DTSTART;VALUE=DATE:20240916
DTEND;VALUE=DATE:20240917
DTSTAMP:20260419T125327
CREATED:20240916T215725Z
LAST-MODIFIED:20240916T215725Z
UID:48765-1726444800-1726531199@ctpassivehouse.org
SUMMARY:Phius Certified Builder Training BEGINS |
DESCRIPTION:
URL:https://ctpassivehouse.org/event/phius-certified-builder-training-begins-7/
END:VEVENT
BEGIN:VEVENT
DTSTART;TZID=America/New_York:20240917T100000
DTEND;TZID=America/New_York:20240917T130000
DTSTAMP:20260419T125327
CREATED:20240916T215725Z
LAST-MODIFIED:20240916T215725Z
UID:48766-1726567200-1726578000@ctpassivehouse.org
SUMMARY:Design of Affordable and Efficient Ground Source Heat Pump Systems | ASHRAE
DESCRIPTION:
URL:https://ctpassivehouse.org/event/design-of-affordable-and-efficient-ground-source-heat-pump-systems-ashrae/
END:VEVENT
BEGIN:VEVENT
DTSTART;TZID=America/New_York:20240917T120000
DTEND;TZID=America/New_York:20240917T130000
DTSTAMP:20260419T125327
CREATED:20240916T215725Z
LAST-MODIFIED:20240916T215725Z
UID:48767-1726574400-1726578000@ctpassivehouse.org
SUMMARY:Connecticut Green Bank Fall 2024 Update | CT Green Bank
DESCRIPTION:
URL:https://ctpassivehouse.org/event/connecticut-green-bank-fall-2024-update-ct-green-bank/
END:VEVENT
BEGIN:VEVENT
DTSTART;VALUE=DATE:20240918
DTEND;VALUE=DATE:20240919
DTSTAMP:20260419T125327
CREATED:20240918T220456Z
LAST-MODIFIED:20240918T220456Z
UID:48854-1726617600-1726703999@ctpassivehouse.org
SUMMARY:Phius Certified Builder Training BEGINS | Phius
DESCRIPTION:
URL:https://ctpassivehouse.org/event/phius-certified-builder-training-begins-phius-12/
LOCATION:Rhode Island
END:VEVENT
BEGIN:VEVENT
DTSTART;TZID=America/New_York:20240918T120000
DTEND;TZID=America/New_York:20240918T130000
DTSTAMP:20260419T125327
CREATED:20240917T215748Z
LAST-MODIFIED:20240917T215748Z
UID:48802-1726660800-1726664400@ctpassivehouse.org
SUMMARY:All About Ducted Mini-Splits | GreenHome Institute
DESCRIPTION:
URL:https://ctpassivehouse.org/event/all-about-ducted-mini-splits-greenhome-institute/
END:VEVENT
BEGIN:VEVENT
DTSTART;TZID=America/New_York:20240918T120000
DTEND;TZID=America/New_York:20240918T133000
DTSTAMP:20260419T125327
CREATED:20240917T215748Z
LAST-MODIFIED:20240917T215748Z
UID:48803-1726660800-1726666200@ctpassivehouse.org
SUMMARY:A practical introduction to EasyPH | iPHA
DESCRIPTION:
URL:https://ctpassivehouse.org/event/a-practical-introduction-to-easyph-ipha/
END:VEVENT
BEGIN:VEVENT
DTSTART;TZID=America/New_York:20240919T090000
DTEND;TZID=America/New_York:20240919T120000
DTSTAMP:20260419T125327
CREATED:20240918T220456Z
LAST-MODIFIED:20240918T220456Z
UID:48855-1726736400-1726747200@ctpassivehouse.org
SUMMARY:Advanced Design for Zero-Energy and Low-Carbon Buildings | ASHRAE
DESCRIPTION:
URL:https://ctpassivehouse.org/event/advanced-design-for-zero-energy-and-low-carbon-buildings-ashrae/
END:VEVENT
BEGIN:VEVENT
DTSTART;TZID=America/New_York:20240919T120000
DTEND;TZID=America/New_York:20240919T130000
DTSTAMP:20260419T125327
CREATED:20240918T220456Z
LAST-MODIFIED:20240918T220456Z
UID:48856-1726747200-1726750800@ctpassivehouse.org
SUMMARY:Electrifying Public and Commercial Buildings:\nWhere to Begin? | Greenbuild
DESCRIPTION:
URL:https://ctpassivehouse.org/event/electrifying-public-and-commercial-buildingswhere-to-begin-greenbuild/
END:VEVENT
BEGIN:VEVENT
DTSTART;TZID=America/New_York:20240924T103000
DTEND;TZID=America/New_York:20240924T114500
DTSTAMP:20260419T125327
CREATED:20240923T222724Z
LAST-MODIFIED:20240923T222724Z
UID:49046-1727173800-1727178300@ctpassivehouse.org
SUMMARY:Roadmap to Resilience: Driving Resilience Improvement and Investment in Fair Haven — and Beyond | CT Green Bank
DESCRIPTION:
URL:https://ctpassivehouse.org/event/roadmap-to-resilience-driving-resilience-improvement-and-investment-in-fair-haven-and-beyond-ct-green-bank/
END:VEVENT
BEGIN:VEVENT
DTSTART;TZID=America/New_York:20240924T180000
DTEND;TZID=America/New_York:20240924T190000
DTSTAMP:20260419T125327
CREATED:20240923T222725Z
LAST-MODIFIED:20240923T222725Z
UID:49047-1727200800-1727204400@ctpassivehouse.org
SUMMARY:Phius 2024 Standard Update Part 2 | Phius
DESCRIPTION:
URL:https://ctpassivehouse.org/event/phius-2024-standard-update-part-2-phius/
END:VEVENT
BEGIN:VEVENT
DTSTART;TZID=America/New_York:20240925T090000
DTEND;TZID=America/New_York:20240925T110000
DTSTAMP:20260419T125327
CREATED:20240924T222820Z
LAST-MODIFIED:20240924T222820Z
UID:49087-1727254800-1727262000@ctpassivehouse.org
SUMMARY:Decarbonize by Design: The Transformative Impact of Charrettes | BE Energy
DESCRIPTION:
URL:https://ctpassivehouse.org/event/decarbonize-by-design-the-transformative-impact-of-charrettes-be-energy/
END:VEVENT
BEGIN:VEVENT
DTSTART;TZID=America/New_York:20240925T100000
DTEND;TZID=America/New_York:20240925T130000
DTSTAMP:20260419T125327
CREATED:20240924T222820Z
LAST-MODIFIED:20240924T222820Z
UID:49089-1727258400-1727269200@ctpassivehouse.org
SUMMARY:Building Energy Modeling Fundamentals and Applications\, Part I | ASHRAE
DESCRIPTION:
URL:https://ctpassivehouse.org/event/building-energy-modeling-fundamentals-and-applications-part-i-ashrae/
END:VEVENT
BEGIN:VEVENT
DTSTART;TZID=America/New_York:20240925T120000
DTEND;TZID=America/New_York:20240925T130000
DTSTAMP:20260419T125327
CREATED:20240924T222820Z
LAST-MODIFIED:20240924T222820Z
UID:49088-1727265600-1727269200@ctpassivehouse.org
SUMMARY:Envelope Sealing with an Automated\, Blower Door Directed Technology | GreenHome Institute
DESCRIPTION:
URL:https://ctpassivehouse.org/event/envelope-sealing-with-an-automated-blower-door-directed-technology-greenhome-institute/
END:VEVENT
BEGIN:VEVENT
DTSTART;TZID=America/New_York:20240925T120000
DTEND;TZID=America/New_York:20240925T130000
DTSTAMP:20260419T125327
CREATED:20240924T222820Z
LAST-MODIFIED:20240924T222820Z
UID:49090-1727265600-1727269200@ctpassivehouse.org
SUMMARY:Passive House Accelerator LIVE!
DESCRIPTION:
URL:https://ctpassivehouse.org/event/passive-house-accelerator-live-41/
END:VEVENT
BEGIN:VEVENT
DTSTART;VALUE=DATE:20240926
DTEND;VALUE=DATE:20240927
DTSTAMP:20260419T125327
CREATED:20240925T223006Z
LAST-MODIFIED:20240925T223006Z
UID:49141-1727308800-1727395199@ctpassivehouse.org
SUMMARY:Realtor/Appraiser Focused Certified GreenHome Professional Training | GreenHome Institute
DESCRIPTION:
URL:https://ctpassivehouse.org/event/realtor-appraiser-focused-certified-greenhome-professional-training-greenhome-institute/
END:VEVENT
END:VCALENDAR